BEGIN:VCALENDAR
VERSION:2.0
PRODID:-//REACH Foundation of Rockland, Inc. - ECPv6.15.20//NONSGML v1.0//EN
CALSCALE:GREGORIAN
METHOD:PUBLISH
X-ORIGINAL-URL:https://www.reachfoundation.org
X-WR-CALDESC:Events for REACH Foundation of Rockland, Inc.
REFRESH-INTERVAL;VALUE=DURATION:PT1H
X-Robots-Tag:noindex
X-PUBLISHED-TTL:PT1H
BEGIN:VTIMEZONE
TZID:America/New_York
BEGIN:DAYLIGHT
TZOFFSETFROM:-0500
TZOFFSETTO:-0400
TZNAME:EDT
DTSTART:20150308T070000
END:DAYLIGHT
BEGIN:STANDARD
TZOFFSETFROM:-0400
TZOFFSETTO:-0500
TZNAME:EST
DTSTART:20151101T060000
END:STANDARD
BEGIN:DAYLIGHT
TZOFFSETFROM:-0500
TZOFFSETTO:-0400
TZNAME:EDT
DTSTART:20160313T070000
END:DAYLIGHT
BEGIN:STANDARD
TZOFFSETFROM:-0400
TZOFFSETTO:-0500
TZNAME:EST
DTSTART:20161106T060000
END:STANDARD
BEGIN:DAYLIGHT
TZOFFSETFROM:-0500
TZOFFSETTO:-0400
TZNAME:EDT
DTSTART:20170312T070000
END:DAYLIGHT
BEGIN:STANDARD
TZOFFSETFROM:-0400
TZOFFSETTO:-0500
TZNAME:EST
DTSTART:20171105T060000
END:STANDARD
BEGIN:DAYLIGHT
TZOFFSETFROM:-0500
TZOFFSETTO:-0400
TZNAME:EDT
DTSTART:20180311T070000
END:DAYLIGHT
BEGIN:STANDARD
TZOFFSETFROM:-0400
TZOFFSETTO:-0500
TZNAME:EST
DTSTART:20181104T060000
END:STANDARD
BEGIN:DAYLIGHT
TZOFFSETFROM:-0500
TZOFFSETTO:-0400
TZNAME:EDT
DTSTART:20190310T070000
END:DAYLIGHT
BEGIN:STANDARD
TZOFFSETFROM:-0400
TZOFFSETTO:-0500
TZNAME:EST
DTSTART:20191103T060000
END:STANDARD
BEGIN:DAYLIGHT
TZOFFSETFROM:-0500
TZOFFSETTO:-0400
TZNAME:EDT
DTSTART:20200308T070000
END:DAYLIGHT
BEGIN:STANDARD
TZOFFSETFROM:-0400
TZOFFSETTO:-0500
TZNAME:EST
DTSTART:20201101T060000
END:STANDARD
BEGIN:DAYLIGHT
TZOFFSETFROM:-0500
TZOFFSETTO:-0400
TZNAME:EDT
DTSTART:20210314T070000
END:DAYLIGHT
BEGIN:STANDARD
TZOFFSETFROM:-0400
TZOFFSETTO:-0500
TZNAME:EST
DTSTART:20211107T060000
END:STANDARD
END:VTIMEZONE
BEGIN:VEVENT
DTSTART;TZID=America/New_York:20200307T110000
DTEND;TZID=America/New_York:20200307T150000
DTSTAMP:20260423T152515
CREATED:20200131T215708Z
LAST-MODIFIED:20200131T215708Z
UID:935-1583578800-1583593200@www.reachfoundation.org
SUMMARY:STEAM Expo 2020
DESCRIPTION:The REACH Foundation STEAM Expo is a celebration of science\, technology\, engineering\, art and math learning. The Expo is the place to collaborate and share what excites our students about STEAM and how it is already incorporated within the Suffern Central School District. \nThe Expo consist of STEAM project displays\, exhibits\, demonstrations\, local organization booths and vendors. \nIf you’d like to be an exhibitor or sponsor please register for the STEAM Expo 2020
URL:https://www.reachfoundation.org/event/steam-expo-2020/
LOCATION:Suffern High School\, 49 Viola Road\, Suffern\, NY\, 10901\, United States
CATEGORIES:Fundraiser,Programs
ATTACH;FMTTYPE=image/jpeg:https://www.reachfoundation.org/wp-content/uploads/steam.jpg
END:VEVENT
BEGIN:VEVENT
DTSTART;TZID=America/New_York:20180303T110000
DTEND;TZID=America/New_York:20180303T150000
DTSTAMP:20260423T152515
CREATED:20170929T134858Z
LAST-MODIFIED:20170929T134917Z
UID:732-1520074800-1520089200@www.reachfoundation.org
SUMMARY:STEAM Expo 2018
DESCRIPTION:Welcome Students\, Educators and Community!\nThe REACH Foundation STEAM Expo is a celebration of science\, technology\, engineering\, art and math learning. The Expo is the place to collaborate and share what excites our students about STEAM and how it is already incorporated within the Suffern Central School District. \nThe Expo will consist of STEAM project displays\, exhibits\, demonstrations\, local organization booths and vendors. Food and drinks will be available for purchase. \nFor further information please contact Deena Goldstein OR Jessica Swerdloff\, STEAM Exp Co-Directors at 845-664-2995 or at reachsteamexpo@gmail.com.
URL:https://www.reachfoundation.org/event/steam-expo-2018/
LOCATION:Suffern High School\, 49 Viola Road\, Suffern\, NY\, 10901\, United States
CATEGORIES:Programs
END:VEVENT
BEGIN:VEVENT
DTSTART;VALUE=DATE:20171103
DTEND;VALUE=DATE:20171104
DTSTAMP:20260423T152515
CREATED:20171003T203313Z
LAST-MODIFIED:20171003T203922Z
UID:748-1509667200-1509753599@www.reachfoundation.org
SUMMARY:REACH 2017-2018 Grants Deadline
DESCRIPTION:The REACH grant program is open to teachers and community members who wish to organize and run an activity that promotes the development of\, demonstration of and/or recognition of leadership and excellence. REACH wishes to fund innovative and creative programs that promote leadership development\, academic excellence and community service. \nNovember 3\, 2017 is the last day to submit a request for a grant\, apply today by clicking on the Apply For Grant button below. \nApply For Grant
URL:https://www.reachfoundation.org/event/reach-2017-2018-grants-deadline/
LOCATION:NY
CATEGORIES:Programs
ATTACH;FMTTYPE=image/jpeg:https://www.reachfoundation.org/wp-content/uploads/reach-grants.jpg
END:VEVENT
BEGIN:VEVENT
DTSTART;TZID=America/New_York:20160306T110000
DTEND;TZID=America/New_York:20160306T150000
DTSTAMP:20260423T152515
CREATED:20151206T224224Z
LAST-MODIFIED:20160119T235049Z
UID:93-1457262000-1457276400@www.reachfoundation.org
SUMMARY:STEAM Expo
DESCRIPTION:Welcome Students\, Educators and Community!\nThe REACH Foundation STEAM Expo is a celebration of science\, technology\, engineering\, art and math learning. The Expo is the place to collaborate and share what excites our students about STEAM and how it is already incorporated within the Ramapo Central School District. \nThe Expo will consist of STEAM project displays\, exhibits\, demonstrations\, local organization booths and vendors. Food and drinks will be available for purchase. \nFor further information please contact Deena Goldstein OR Jessica Swerdloff\, STEAM Exp Co-Directors at 845-664-2995 or at reachsteamexpo@gmail.com.
URL:https://www.reachfoundation.org/event/steam-expo/
LOCATION:Suffern High School\, 49 Viola Road\, Suffern\, NY\, 10901\, United States
CATEGORIES:Programs
ATTACH;FMTTYPE=image/jpeg:https://www.reachfoundation.org/wp-content/uploads/steam-expo-2016.jpg
END:VEVENT
END:VCALENDAR